BEGIN:VCALENDAR
VERSION:2.0
PRODID:-//ExMuslims International - ECPv6.15.20//NONSGML v1.0//EN
CALSCALE:GREGORIAN
METHOD:PUBLISH
X-ORIGINAL-URL:https://ex-muslims.international
X-WR-CALDESC:Events for ExMuslims International
REFRESH-INTERVAL;VALUE=DURATION:PT1H
X-Robots-Tag:noindex
X-PUBLISHED-TTL:PT1H
BEGIN:VTIMEZONE
TZID:UTC
BEGIN:STANDARD
TZOFFSETFROM:+0000
TZOFFSETTO:+0000
TZNAME:UTC
DTSTART:20250101T000000
END:STANDARD
END:VTIMEZONE
BEGIN:VEVENT
DTSTART;VALUE=DATE:20260323
DTEND;VALUE=DATE:20260324
DTSTAMP:20260426T012057
CREATED:20260309T233000Z
LAST-MODIFIED:20260323T053926Z
UID:7332-1774224000-1774310399@ex-muslims.international
SUMMARY:Atheist Day 2026: Not just a celebration. A demand for freedom.
DESCRIPTION:Atheist Day on March 23 is not just an annual celebration. It’s a demand for freedom. \nCelebrate openly. Stand in solidarity. Join us this March 23 for Atheist Day\, a global moment to defend the right to disbelieve in god(s). \nAtheist Day\, created by an international coalition of Ex-Muslims and atheist allies\, is more than a celebration. It’s an act of resistance. Across the world\, atheists and ex-Muslims continue to face persecution\, imprisonment\, and violence simply for questioning religion. From anti-apostasy laws to enforced silence\, disbelief is still treated as a threat rather than a human right. \nThis event brings together a global community to: \n\nAffirm the freedom of belief and non-belief\n\nRaise awareness of ongoing persecution\n\nStand in solidarity with those who cannot speak freely\n\nCall for the release of imprisoned atheists and activists\, including Sherif Gaber (#FreeSherif)\n\n\nWhether you’re openly atheist\, questioning\, or an ally—this day is for you! \nRead why Atheist Day matters now more than ever.  
URL:https://ex-muslims.international/events/atheist-day-2026/
CATEGORIES:Past,Upcoming
ATTACH;FMTTYPE=image/png:https://ex-muslims.international/wp-content/uploads/2026/03/exmi-e1774242849940.png
END:VEVENT
END:VCALENDAR