BEGIN:VCALENDAR
VERSION:2.0
PRODID:-//ExMuslims International - ECPv6.15.20//NONSGML v1.0//EN
CALSCALE:GREGORIAN
METHOD:PUBLISH
X-WR-CALNAME:ExMuslims International
X-ORIGINAL-URL:https://ex-muslims.international
X-WR-CALDESC:Events for ExMuslims International
REFRESH-INTERVAL;VALUE=DURATION:PT1H
X-Robots-Tag:noindex
X-PUBLISHED-TTL:PT1H
BEGIN:VTIMEZONE
TZID:UTC
BEGIN:STANDARD
TZOFFSETFROM:+0000
TZOFFSETTO:+0000
TZNAME:UTC
DTSTART:20240101T000000
END:STANDARD
END:VTIMEZONE
BEGIN:VEVENT
DTSTART;VALUE=DATE:20251201
DTEND;VALUE=DATE:20260101
DTSTAMP:20260426T043518
CREATED:20251129T213204Z
LAST-MODIFIED:20251209T023417Z
UID:7291-1764547200-1767225599@ex-muslims.international
SUMMARY:2025 Ex-Muslim Awareness Month: Why NOT Islam
DESCRIPTION:Our doubt\, voices and existence as Ex-Muslims is why we’re not asking\, we’re saying: why NOT Islam!\n \nJoin Ex-Muslims International in collaboration with Haram Doodles and Ex-Muslims of North America for the fourth annual Ex-Muslim Month this December in loudly\, proudly and unapologetically saying: “why NOT Islam!” \nEx-Muslim Month 2025 expands the U.S. success of the epic #whyNOTislam campaign earlier this year by Ex-Muslims of North America. \nTheir message is simple: Losing faith in Islam? You’re not alone! \nWe Ex-Muslims are a global community of people who\, somewhere along the way\, lost our faith in Islam too. And\, we’re done being treated as a threat and excusing a religious system that continues to harm. \nIslam\, and the Islamist Muslims who have the power to enforce it\, use Islam to turn inequality into law\, obedience into virtue\, and freedom into a crime. The result is an authoritative\, oppressive religious system that allows family\, community and government leaders to control\, silence and harm people by denying them their basic human rights like freedom of speech or freedom from religion. \nDire consequences are not theoretical for those of us who dare to free ourselves from Islam and advocate for secularism\, humanism\, free thought\, feminism and LGBTQ+ rights. They’re lived\, unjust and systemic. \nRampant apostophobia in Muslim communities. Women forced into veils and homes in Afghanistan. An Islamic regime that continues brutalizing dissent and persecuting protestors in Iran.  \nAnti-blasphemy laws imprisoning human rights activist Betty Lachgar in Morocco or people in Pakistan for speaking freely online. Disappearance of atheist activist Sherif Gaber amidst a war on atheism in Egypt. Human rights violations in Saudi Arabia.\n\nHarm done by Islamist family control in the U.S. or U.K. Half of the countries with anti-LGBTQ laws being Muslim-majority. And\, countless dissidents of Islam facing persecution — the harm is real\, global\, and ongoing. \nThat’s why ExMuslim Month was started in December 2022\, for ExMuslims\, Ex-Muslim organizations\, partners\, allies and friends to raise global awareness of Ex-Muslims and advocate for our rights to safely and freely question\, disbelieve and leave Islam. \nWe leave Islam because we can\, no matter what Islam or Islamists say. We speak quietly and loudly because too many of us cannot. Every Ex-Muslim who doubts\, deconstructs and leaves Islam is living\, breathing evidence of why NOT Islam! \nHere are 10 things can you do to celebrate and honor Ex-Muslim month in December 2025:\n\nUse hashtag #ExMuslimMonth and #whyNOTislam\nUrge politicians\, influencers\, organizations and public officials to free Betty in Morocco\, free Sherif Gaber in Egypt\, and to use their privilege\, power and connections to support secularism or keeping religion out of governments.\nVisit and share whyNOTislam.net\, created by Ex-Muslims of North America. It provides Ex-Muslims and people who are questioning Islam with the most-discussed topics\, frequently and secretly-asked questions\, and evidence-based information from the Quran.\nShare your story anonymously on exmuslim.me. Make a historical contribution with fellow Ex-Muslims and let the world know we exist!\nWatch this livestream with members of Ex-Muslims International Secular Spirit\, Uniting the Cults\, Haram Doodles\, Apostate Aladdin\, Maryam Namazie from the Council of Ex-Muslims of Britain\, Egyptian musician Yasmine Elbaramawy\, artist Raghed Rustom\, and physics professor Usama al-Binni.\n \n\n\nShare content about Ex-Muslims from Ex-Muslims to increase belonging.\nTalk about Ex-Muslims on social media or with people you feel safe with.\nSupport fellow Ex-Muslims in your life and in online communities like Reddit or Discord\nDonate to Ex-Muslim organizations.\nVolunteer your time and talent with Ex-Muslim\, atheist\, secular and humanist organizations.\n\nHistory of Ex-Muslim Month: Did you know? ExMuslim Month was born from the Ex-Muslim Subreddit in December 2022\, and the Ex-Muslim Subreddit was started on December 1\, 2010! \nDownload and share 2025 Ex-Muslim Month #whyNOTislam graphics\n \n 
URL:https://ex-muslims.international/events/2025-ex-muslim-awareness-month-why-not-islam/
CATEGORIES:Upcoming
ATTACH;FMTTYPE=image/jpeg:https://ex-muslims.international/wp-content/uploads/2025/11/ExMAM2025_whyNOTislam.jpg
END:VEVENT
END:VCALENDAR